BEGIN:VCALENDAR
VERSION:2.0
PRODID:-//eventon.com NONSGML v1.0//EN
CALSCALE:GREGORIAN
METHOD:PUBLISH
BEGIN:VEVENT
UID:69e58e5a11d68
DTSTAMP:20260420T022426Z
DTSTART:20260912T200000Z
DTEND:20260913T025900Z
LOCATION:Clube Curitibano - salão Azul Av. Getúlio Vargas\,  2857 - Água Verde
SUMMARY:Casamento Ana e Lucas
DESCRIPTION:CONTRATO ASSINADO RESP TECA\nhttps://adm.nizogomide.com.br/blog
 /events/casamento-ana-e-lucas-2/
URL:https://adm.nizogomide.com.br/blog/events/casamento-ana-e-lucas-2/
END:VEVENT
END:VCALENDAR