BEGIN:VCALENDAR
VERSION:2.0
PRODID:-//eventon.com NONSGML v1.0//EN
CALSCALE:GREGORIAN
METHOD:PUBLISH
BEGIN:VEVENT
UID:69e5825fe2fba
DTSTAMP:20260420T013319Z
DTSTART:20260502T130000Z
DTEND:20260502T130000Z
LOCATION:Clube Curitibano - salão Rosa Av. Getúlio Vargas\,  2857 - Água Verde
SUMMARY:CASAMENTO LUIZA E ATHOS
DESCRIPTION:CASAMENTO LUIZA E ATHOS\nhttps://adm.nizogomide.com.br/blog/eve
 nts/casamento-luiza-e-athos/
URL:https://adm.nizogomide.com.br/blog/events/casamento-luiza-e-athos/
END:VEVENT
END:VCALENDAR