BEGIN:VCALENDAR
VERSION:2.0
PRODID:-//eventon.com NONSGML v1.0//EN
CALSCALE:GREGORIAN
METHOD:PUBLISH
BEGIN:VEVENT
UID:69e58314d3b1f
DTSTAMP:20260420T013620Z
DTSTART:20260627T130000Z
DTEND:20260628T025900Z
LOCATION:Central Hall R. João Negrão\,  1140 - Rebouças\,  Curitiba - PR\, 
SUMMARY:CASAMENTO FERNANDA E LUCAS
DESCRIPTION:150 PAX\nhttps://adm.nizogomide.com.br/blog/events/casamento-fe
 rnanda-e-lucas/
URL:https://adm.nizogomide.com.br/blog/events/casamento-fernanda-e-lucas/
END:VEVENT
END:VCALENDAR