BEGIN:VCALENDAR
VERSION:2.0
PRODID:-//eventon.com NONSGML v1.0//EN
CALSCALE:GREGORIAN
METHOD:PUBLISH
BEGIN:VEVENT
UID:69e58c906a409
DTSTAMP:20260420T021648Z
DTSTART:20260905T190000Z
DTEND:20260906T025900Z
LOCATION:PAROQUIA SÃO SEBASTIÃO QUATRO BARRAS
SUMMARY:CASAMENTO GISELLE E GABRIEL
DESCRIPTION:CASAMENTO GISELLE E GABRIEL\nhttps://adm.nizogomide.com.br/blog
 /events/casamento-giselle-e-gabriel/
URL:https://adm.nizogomide.com.br/blog/events/casamento-giselle-e-gabriel/
END:VEVENT
END:VCALENDAR