BEGIN:VCALENDAR
VERSION:2.0
PRODID:-//eventon.com NONSGML v1.0//EN
CALSCALE:GREGORIAN
METHOD:PUBLISH
BEGIN:VEVENT
UID:69e58c7b982e6
DTSTAMP:20260420T021627Z
DTSTART:20260822T190000Z
DTEND:20260823T025900Z
LOCATION:Graciosa Country Clube Av. Munhoz da Rocha\,  1146 - Cabral\,  Curitiba - PR
SUMMARY:CASAMENTO ISABEL E EMANUELE
DESCRIPTION:300 PAX\nhttps://adm.nizogomide.com.br/blog/events/casamento-is
 abel-e-emanuele/
URL:https://adm.nizogomide.com.br/blog/events/casamento-isabel-e-emanuele/
END:VEVENT
END:VCALENDAR