BEGIN:VCALENDAR
VERSION:2.0
PRODID:-//eventon.com NONSGML v1.0//EN
CALSCALE:GREGORIAN
METHOD:PUBLISH
BEGIN:VEVENT
UID:69e58e5a9a414
DTSTAMP:20260420T022426Z
DTSTART:20260919T210000Z
DTEND:20260920T025900Z
LOCATION:Castelo do Batel Av. do Batel\,  1323 - Batel\,  Curitiba - PR\, 
SUMMARY:Casamento Ana e Raul
DESCRIPTION:CONTRATO ASSINADO RESP TECA\nhttps://adm.nizogomide.com.br/blog
 /events/casamento-ana-e-raul/
URL:https://adm.nizogomide.com.br/blog/events/casamento-ana-e-raul/
END:VEVENT
END:VCALENDAR