BEGIN:VCALENDAR
VERSION:2.0
PRODID:-//eventon.com NONSGML v1.0//EN
CALSCALE:GREGORIAN
METHOD:PUBLISH
BEGIN:VEVENT
UID:69e58783b4085
DTSTAMP:20260420T015515Z
DTSTART:20261011T200000Z
DTEND:20261011T220000Z
LOCATION:Castelo do Batel Av. do Batel\,  1323 - Batel\,  Curitiba - PR\, 
SUMMARY:CASAMENTO NATY LOPES E FILIPE RAVERA
DESCRIPTION:70 pax Resp.: Grazi Indicação: Bernardo\nhttps://adm.nizogomi
 de.com.br/blog/events/casamento-naty-lopes-e-filipe-ravera/
URL:https://adm.nizogomide.com.br/blog/events/casamento-naty-lopes-e-filipe-ravera/
END:VEVENT
END:VCALENDAR