BEGIN:VCALENDAR
VERSION:2.0
PRODID:-//eventon.com NONSGML v1.0//EN
CALSCALE:GREGORIAN
METHOD:PUBLISH
BEGIN:VEVENT
UID:69e58e4f514c0
DTSTAMP:20260420T022415Z
DTSTART:20260516T120000Z
DTEND:20260517T025900Z
LOCATION:
SUMMARY:Casamento Larissa e Lucas
DESCRIPTION:CONTRATO ASSINADO RESP TECA BRUSQUE &#8211; SC\nhttps://adm.niz
 ogomide.com.br/blog/events/casamento-larissa-e-lucas/
URL:https://adm.nizogomide.com.br/blog/events/casamento-larissa-e-lucas/
END:VEVENT
END:VCALENDAR