BEGIN:VCALENDAR
VERSION:2.0
PRODID:-//eventon.com NONSGML v1.0//EN
CALSCALE:GREGORIAN
METHOD:PUBLISH
BEGIN:VEVENT
UID:69e58e4ec9de3
DTSTAMP:20260420T022414Z
DTSTART:20260605T150000Z
DTEND:20260606T025900Z
LOCATION:Klaine Garden Lounge R. Justo Manfron\,  1431 - Santa Felicidade\,  Curitiba - PR
SUMMARY:CASAMENTO JESSICA E LUIS
DESCRIPTION:CASAMENTO JESSICA E LUIS\nhttps://adm.nizogomide.com.br/blog/ev
 ents/casamento-jessica-e-luis/
URL:https://adm.nizogomide.com.br/blog/events/casamento-jessica-e-luis/
END:VEVENT
END:VCALENDAR