BEGIN:VCALENDAR
VERSION:2.0
PRODID:-//eventon.com NONSGML v1.0//EN
CALSCALE:GREGORIAN
METHOD:PUBLISH
BEGIN:VEVENT
UID:69e584586531e
DTSTAMP:20260420T014144Z
DTSTART:20260704T220000Z
DTEND:20260705T025900Z
LOCATION:Graciosa Country Clube Av. Munhoz da Rocha\,  1146 - Cabral\,  Curitiba - PR
SUMMARY:Casamento Mariana e Emílio Torres
DESCRIPTION:FECHADO VERBLAMENTE (AMIGOS NIZO) RESP. NIZO\nhttps://adm.nizog
 omide.com.br/blog/events/casamento-mariana-e-emilio-torres/
URL:https://adm.nizogomide.com.br/blog/events/casamento-mariana-e-emilio-torres/
END:VEVENT
END:VCALENDAR