BEGIN:VCALENDAR
VERSION:2.0
PRODID:-//eventon.com NONSGML v1.0//EN
CALSCALE:GREGORIAN
METHOD:PUBLISH
BEGIN:VEVENT
UID:69e5796c22e45
DTSTAMP:20260420T005508Z
DTSTART:20261120T140000Z
DTEND:20261120T140000Z
LOCATION:HOTEL FAZENDA VIRA FERNANDES PINHEIRO-PR
SUMMARY:CASAMENTO RAYSSA E JORGE
DESCRIPTION:FERNANDES PINHEIRO/PERTO IRATI\nhttps://adm.nizogomide.com.br/b
 log/events/casamento-rayssa-e-jorge/
URL:https://adm.nizogomide.com.br/blog/events/casamento-rayssa-e-jorge/
END:VEVENT
END:VCALENDAR