BEGIN:VCALENDAR
VERSION:2.0
PRODID:-//eventon.com NONSGML v1.0//EN
CALSCALE:GREGORIAN
METHOD:PUBLISH
BEGIN:VEVENT
UID:69e57ac1e82d1
DTSTAMP:20260420T010049Z
DTSTART:20270529T120000Z
DTEND:20270529T120000Z
LOCATION:Laggus Nautico
SUMMARY:CASAMENTO ISABELLE E BRUNO
DESCRIPTION:120 PAX\nhttps://adm.nizogomide.com.br/blog/events/casamento-is
 abelle-e-bruno/
URL:https://adm.nizogomide.com.br/blog/events/casamento-isabelle-e-bruno/
END:VEVENT
END:VCALENDAR