BEGIN:VCALENDAR
VERSION:2.0
PRODID:-//eventon.com NONSGML v1.0//EN
CALSCALE:GREGORIAN
METHOD:PUBLISH
BEGIN:VEVENT
UID:69e58315400a1
DTSTAMP:20260420T013621Z
DTSTART:20260410T110000Z
DTEND:20260412T025900Z
LOCATION:Foz do Iguaçu
SUMMARY:Casamento Isadora e Sami
DESCRIPTION:RESP NIZO\nhttps://adm.nizogomide.com.br/blog/events/casamento-
 isadora-e-sami/
URL:https://adm.nizogomide.com.br/blog/events/casamento-isadora-e-sami/
END:VEVENT
END:VCALENDAR