BEGIN:VCALENDAR
VERSION:2.0
PRODID:-//eventon.com NONSGML v1.0//EN
CALSCALE:GREGORIAN
METHOD:PUBLISH
BEGIN:VEVENT
UID:69e5796cc48fe
DTSTAMP:20260420T005508Z
DTSTART:20260418T150000Z
DTEND:20260419T025900Z
LOCATION:
SUMMARY:Casamento Barbara e Joao Oliveira
DESCRIPTION:CONTRATO ASSINADO RESP JOSLEY LOCAL: JOINVILLE Assessora Dani S
 chramm\nhttps://adm.nizogomide.com.br/blog/events/casamento-barbara-e-joao-
 oliveira/
URL:https://adm.nizogomide.com.br/blog/events/casamento-barbara-e-joao-oliveira/
END:VEVENT
END:VCALENDAR