BEGIN:VCALENDAR
VERSION:2.0
PRODID:-//eventon.com NONSGML v1.0//EN
CALSCALE:GREGORIAN
METHOD:PUBLISH
BEGIN:VEVENT
UID:69e5844e8c092
DTSTAMP:20260420T014134Z
DTSTART:20260822T135100Z
DTEND:20260823T025900Z
LOCATION:Nuvem de Côco Buffet  R. Paulo Gorski\,  1740\,  Curitiba - PR
SUMMARY:FESTA FORMATURA MEDICINA NATALIA
DESCRIPTION:350 PAX\nhttps://adm.nizogomide.com.br/blog/events/festa-format
 ura-medicina-natalia/
URL:https://adm.nizogomide.com.br/blog/events/festa-formatura-medicina-natalia/
END:VEVENT
END:VCALENDAR