BEGIN:VCALENDAR
VERSION:2.0
PRODID:-//eventon.com NONSGML v1.0//EN
CALSCALE:GREGORIAN
METHOD:PUBLISH
BEGIN:VEVENT
UID:69e5844d9c092
DTSTAMP:20260420T014133Z
DTSTART:20260613T174500Z
DTEND:20260614T025900Z
LOCATION:CASCAVEL -PR
SUMMARY:CASAMENTO LETICIA E VICTOR
DESCRIPTION:CONTRATO ASSINADO RESP: NIZO\nhttps://adm.nizogomide.com.br/blo
 g/events/casamento-leticia-e-victor/
URL:https://adm.nizogomide.com.br/blog/events/casamento-leticia-e-victor/
END:VEVENT
END:VCALENDAR